BEGIN:VCALENDAR
VERSION:2.0
PRODID:-//Date iCal//NONSGML kigkonsult.se iCalcreator 2.20.2//
METHOD:PUBLISH
X-WR-CALNAME;VALUE=TEXT:AFSCME Union Hall
BEGIN:VTIMEZONE
TZID:America/New_York
BEGIN:STANDARD
DTSTART:20171105T020000
TZOFFSETFROM:-0400
TZOFFSETTO:-0500
TZNAME:EST
END:STANDARD
BEGIN:DAYLIGHT
DTSTART:20170312T020000
TZOFFSETFROM:-0500
TZOFFSETTO:-0400
RDATE:20180311T020000
TZNAME:EDT
END:DAYLIGHT
END:VTIMEZONE
BEGIN:VEVENT
UID:calendar.12555.field_oa_date.0@afscmeatwork.org
DTSTAMP:20240226T171117Z
CREATED:20170816T184800Z
DESCRIPTION:My bday 
DTSTART;VALUE=DATE:20170907
DTEND;VALUE=DATE:20170908
LAST-MODIFIED:20170816T185252Z
SUMMARY:Kevin Bday
URL;TYPE=URI:https://afscmeatwork.org/kevin-presentation-test-site/calendar
 -events/kevin-bday
END:VEVENT
END:VCALENDAR
