BEGIN:VCALENDAR
VERSION:2.0
PRODID:-//Date iCal//NONSGML kigkonsult.se iCalcreator 2.20.2//
METHOD:PUBLISH
X-WR-CALNAME;VALUE=TEXT:AFSCME District Council 37
BEGIN:VTIMEZONE
TZID:America/New_York
BEGIN:STANDARD
DTSTART:20171105T020000
TZOFFSETFROM:-0400
TZOFFSETTO:-0500
RDATE:20181104T020000
TZNAME:EST
END:STANDARD
BEGIN:DAYLIGHT
DTSTART:20170312T020000
TZOFFSETFROM:-0500
TZOFFSETTO:-0400
RDATE:20180311T020000,20190310T020000
TZNAME:EDT
END:DAYLIGHT
END:VTIMEZONE
BEGIN:VEVENT
UID:calendar.29696.field_oa_date.0@afscmeatwork.org
DTSTAMP:20240226T184251Z
CREATED:20180827T171858Z
DESCRIPTION:A political action committee (PAC) is an organization that pool
 s contributions from members and donates these funds to campaign for or ag
 ainst candidates\, ballot initiatives\, or legislation. A PAC may also con
 tribute to a campaign by providing volunteers for canvassing\, phone banki
 ng\, GOTV\, etc. Local 420 PAC meetings monthly (except July and August) o
 n the first Monday. Our PAC is made up of the Officers and Vice Chapter Ch
 airs. However\, attendance is open to all members of the local.\n\nAs a lo
 cal\, our PAC has played a significant role in the elections of both US Se
 nators from NY\; the Bronx\, Brooklyn\, Manhattan and Queens US Congressio
 nal Represenatives\; many of the NYS senators and assembly representative 
 form the 5 boroughs\; the Mayor\, Speaker and more than half of the curren
 t NYC Council members\; the current NYC Public Advocate\; and many borough
  AGs and district leaders. Our success in getting candidates elected to of
 fice has resulted in corresponding successs in getting legistilation and o
 ther intiatives passed at the city and state levels.\n\nSo join us each Fi
 rst Monday and let us together shape the future of healthcare and our comm
 unities.
DTSTART;TZID=America/New_York:20180910T180000
DTEND;TZID=America/New_York:20180910T200000
LAST-MODIFIED:20180827T171858Z
LOCATION:Local 420 AFSCME: 70 W 36 Street\, New York\, NY 10018
RRULE:FREQ=MONTHLY;COUNT=100;INTERVAL=1;BYDAY=+1MO;BYMONTH=1,2,3,4,5,6,9,10
 ,11,12;WKST=SU
SUMMARY:PAC Meetings
URL;TYPE=URI:https://afscmeatwork.org/local-420-municipal-hospital-employee
 s-union/calendar-events-0/pac-meetings-0
END:VEVENT
BEGIN:VEVENT
UID:calendar.21366.field_oa_date.0@afscmeatwork.org
DTSTAMP:20240226T184251Z
CREATED:20180424T183900Z
DESCRIPTION:Monthly meetings of the local's Executive Board - elected offic
 ers and chapter chairs\, who act on behalf of\, and within the powers gran
 ted to them by\, the rank and file members. It consists of a president\, 1
 st and 2nd vice presidents\, recording secretary\, secretary-treasurer and
  the chapter chairs of the 16 hospitals and homes in the Health+Hospitals 
 system.\n\nThe Executive Board meetings are held on the 2nd Tuesday of the
  each month [except July and August\, when the the local goes on Summer sc
 hedule] and is the decision making body when the general membership is not
  in session. It sets the agenda by which the local oprates.
DTSTART;TZID=America/New_York:20180109T180000
DTEND;TZID=America/New_York:20180109T203000
LAST-MODIFIED:20180424T185049Z
RRULE:FREQ=MONTHLY;COUNT=36;INTERVAL=1;BYDAY=+2TU;BYMONTH=2,3,4,5,6,9,10,11
 ,12;WKST=SU
SUMMARY:Executive Board Meeting
URL;TYPE=URI:https://afscmeatwork.org/local-420-municipal-hospital-employee
 s-union/calendar-events-0/executive-board-meeting
END:VEVENT
BEGIN:VEVENT
UID:calendar.21365.field_oa_date.0@afscmeatwork.org
DTSTAMP:20240226T184251Z
CREATED:20180424T182300Z
DESCRIPTION:Regular meetings of the entire local - General Membership - are
  held on the third Thursday in the months of February\, April\, June\, Oct
 ober and December. \n\nGeneral Membership is the highest decision making b
 ody of the loca. It is where the local policies and constitutional amendme
 nts are made.\n\nDue to the meeting size\, all General Membership meetings
  are held at DC37: 125 Barclay Street\, New York\, NY 10007.
DTSTART;TZID=America/New_York:20180216T180000
DTEND;TZID=America/New_York:20180216T200000
LAST-MODIFIED:20180827T174108Z
RRULE:FREQ=MONTHLY;COUNT=25;INTERVAL=1;BYDAY=+3TH;BYMONTH=2,4,6,10,12;WKST=
 SU
SUMMARY:General Membership Meetings
URL;TYPE=URI:https://afscmeatwork.org/local-420-municipal-hospital-employee
 s-union/calendar-events-0/general-membership-meetings
END:VEVENT
BEGIN:VEVENT
UID:calendar.21952.field_oa_date.0@afscmeatwork.org
DTSTAMP:20240226T184251Z
CREATED:20170913T181400Z
DESCRIPTION:The DC 37 Climate Committee presents a forum on 'Environmental 
 Racism and the Fight for Environmental Justice.' Local and national speake
 rs. Breakout sessions on Fighting Back and Insuring Union Jobs.
DTSTART;TZID=America/New_York:20171005T173000
DTEND;TZID=America/New_York:20171005T203000
LAST-MODIFIED:20180426T153903Z
LOCATION:125 Barclay Street\, New York\, NY 10007
SUMMARY:Environmental Justice Forum
URL;TYPE=URI:https://afscmeatwork.org/local-420-municipal-hospital-employee
 s-union/calendar-events-0/environmental-justice-forum
END:VEVENT
END:VCALENDAR
