BEGIN:VCALENDAR
VERSION:2.0
PRODID:-//Date iCal//NONSGML kigkonsult.se iCalcreator 2.20.2//
METHOD:PUBLISH
X-WR-CALNAME;VALUE=TEXT:Union Hall
BEGIN:VTIMEZONE
TZID:America/New_York
BEGIN:STANDARD
DTSTART:20171105T020000
TZOFFSETFROM:-0400
TZOFFSETTO:-0500
RDATE:20181104T020000,20191103T020000,20201101T020000,20211107T020000,20221
 106T020000,20231105T020000
TZNAME:EST
END:STANDARD
BEGIN:DAYLIGHT
DTSTART:20170312T020000
TZOFFSETFROM:-0500
TZOFFSETTO:-0400
RDATE:20180311T020000,20190310T020000,20200308T020000,20210314T020000,20220
 313T020000,20230312T020000
TZNAME:EDT
END:DAYLIGHT
END:VTIMEZONE
BEGIN:VEVENT
UID:calendar.175159.field_oa_date.0@afscmeatwork.org
DTSTAMP:20240226T133412Z
CREATED:20230621T162506Z
DESCRIPTION:Here is description of the event. 
DTSTART;TZID=America/New_York:20230621T143000
DTEND;TZID=America/New_York:20230621T163000
LAST-MODIFIED:20230621T162506Z
RRULE:FREQ=WEEKLY;COUNT=10;INTERVAL=1;BYDAY=WE;WKST=SU
SUMMARY:Test Event
URL;TYPE=URI:https://afscmeatwork.org/union-hall/calendar-events/test-event
END:VEVENT
BEGIN:VEVENT
UID:calendar.31724.field_oa_date.0@afscmeatwork.org
DTSTAMP:20240226T133412Z
CREATED:20180928T151501Z
DTSTART;TZID=America/New_York:20180928T111500
DTEND;TZID=America/New_York:20180928T121500
LAST-MODIFIED:20180928T151501Z
RRULE:FREQ=WEEKLY;COUNT=100;INTERVAL=2;WKST=SU
SUMMARY:Meeting
URL;TYPE=URI:https://afscmeatwork.org/union-hall/calendar-events/meeting
END:VEVENT
BEGIN:VEVENT
UID:calendar.26148.field_oa_date.0@afscmeatwork.org
DTSTAMP:20240226T133412Z
CREATED:20180702T173501Z
DTSTART;VALUE=DATE:20180704
DTEND;VALUE=DATE:20180705
LAST-MODIFIED:20180702T173501Z
SUMMARY:Independence Day
URL;TYPE=URI:https://afscmeatwork.org/union-hall/calendar-events/independen
 ce-day
END:VEVENT
BEGIN:VEVENT
UID:calendar.24769.field_oa_date.0@afscmeatwork.org
DTSTAMP:20240226T133412Z
CREATED:20180606T170322Z
DTSTART;TZID=America/New_York:20180611T130000
DTEND;TZID=America/New_York:20180611T130000
LAST-MODIFIED:20180606T170322Z
SUMMARY:Important Day
URL;TYPE=URI:https://afscmeatwork.org/union-hall/calendar-events/important-
 day
END:VEVENT
BEGIN:VEVENT
UID:calendar.19237.field_oa_date.0@afscmeatwork.org
DTSTAMP:20240226T133412Z
CREATED:20180213T202632Z
DTSTART;VALUE=DATE:20180528
DTEND;VALUE=DATE:20180529
LAST-MODIFIED:20180213T202632Z
SUMMARY:Memorial Day
URL;TYPE=URI:https://afscmeatwork.org/union-hall/calendar-events/memorial-d
 ay
END:VEVENT
BEGIN:VEVENT
UID:calendar.15994.field_oa_date.0@afscmeatwork.org
DTSTAMP:20240226T133412Z
CREATED:20171211T204718Z
DTSTART;VALUE=DATE:20171225
DTEND;VALUE=DATE:20171226
LAST-MODIFIED:20171211T204718Z
SUMMARY:Christmas
URL;TYPE=URI:https://afscmeatwork.org/union-hall/calendar-events/christmas
END:VEVENT
BEGIN:VEVENT
UID:calendar.14295.field_oa_date.0@afscmeatwork.org
DTSTAMP:20240226T133412Z
CREATED:20171114T153914Z
DTSTART;VALUE=DATE:20171114
DTEND;VALUE=DATE:20171124
LAST-MODIFIED:20171130T213707Z
SUMMARY:Thanksgiving
URL;TYPE=URI:https://afscmeatwork.org/union-hall/calendar-events/thanksgivi
 ng
END:VEVENT
BEGIN:VEVENT
UID:calendar.2685.field_oa_date.0@afscmeatwork.org
DTSTAMP:20240226T133412Z
CREATED:20170620T151026Z
DTSTART;VALUE=DATE:20171110
DTEND;VALUE=DATE:20171111
LAST-MODIFIED:20171130T213705Z
SUMMARY:Veterans Day
URL;TYPE=URI:https://afscmeatwork.org/union-hall/calendar-events/veterans-d
 ay
END:VEVENT
BEGIN:VEVENT
UID:calendar.2684.field_oa_date.0@afscmeatwork.org
DTSTAMP:20240226T133412Z
CREATED:20170620T150803Z
DTSTART;VALUE=DATE:20170904
DTEND;VALUE=DATE:20170905
LAST-MODIFIED:20171130T213705Z
SUMMARY:Labor Day
URL;TYPE=URI:https://afscmeatwork.org/union-hall/calendar-events/labor-day
END:VEVENT
BEGIN:VEVENT
UID:calendar.2683.field_oa_date.0@afscmeatwork.org
DTSTAMP:20240226T133412Z
CREATED:20170620T150646Z
DESCRIPTION:Be safe and have a great summer!
DTSTART;VALUE=DATE:20170704
DTEND;VALUE=DATE:20170705
LAST-MODIFIED:20171130T213705Z
SUMMARY:July 4th Holiday
URL;TYPE=URI:https://afscmeatwork.org/union-hall/calendar-events/july-4th-h
 oliday
END:VEVENT
BEGIN:VEVENT
UID:calendar.2307.field_oa_date.0@afscmeatwork.org
DTSTAMP:20240226T133412Z
CREATED:20170614T020831Z
DESCRIPTION:Spend the day building websites with Union Hall.
DTSTART;VALUE=DATE:20170615
DTEND;VALUE=DATE:20170616
LAST-MODIFIED:20171130T213705Z
LOCATION:1625 L St. NW\, Washington\, DC 20036
SUMMARY:Union Hall Training Day 2!
URL;TYPE=URI:https://afscmeatwork.org/union-hall/calendar-events/union-hall
 -training-day-2
END:VEVENT
BEGIN:VEVENT
UID:calendar.2306.field_oa_date.0@afscmeatwork.org
DTSTAMP:20240226T133412Z
CREATED:20170614T020638Z
DESCRIPTION:A day of training on how to use Union Hall to build websites.
DTSTART;VALUE=DATE:20170614
DTEND;VALUE=DATE:20170615
LAST-MODIFIED:20171130T213705Z
LOCATION:1625 L St. NW\, Washington\, DC 20036
SUMMARY:Union Hall Training Day 1!
URL;TYPE=URI:https://afscmeatwork.org/union-hall/calendar-events/union-hall
 -training-day-1
END:VEVENT
END:VCALENDAR
