BEGIN:VCALENDAR
VERSION:2.0
PRODID:-//Date iCal//NONSGML kigkonsult.se iCalcreator 2.20.2//
METHOD:PUBLISH
X-WR-CALNAME;VALUE=TEXT:AFSCME Union Hall 
BEGIN:VTIMEZONE
TZID:America/New_York
BEGIN:STANDARD
DTSTART:20191103T020000
TZOFFSETFROM:-0400
TZOFFSETTO:-0500
RDATE:20201101T020000
TZNAME:EST
END:STANDARD
BEGIN:DAYLIGHT
DTSTART:20200308T020000
TZOFFSETFROM:-0500
TZOFFSETTO:-0400
RDATE:20210314T020000
TZNAME:EDT
END:DAYLIGHT
END:VTIMEZONE
BEGIN:VEVENT
UID:calendar.80007.field_oa_date.0@afscmeatwork.org
DTSTAMP:20240226T164158Z
CREATED:20200229T190106Z
DTSTART;VALUE=DATE:20200319
DTEND;VALUE=DATE:20200320
LAST-MODIFIED:20200229T190106Z
SUMMARY:Negotiations
URL;TYPE=URI:https://afscmeatwork.org/afcme-local-3580/calendar-events/nego
 tiations-7
END:VEVENT
BEGIN:VEVENT
UID:calendar.75515.field_oa_date.0@afscmeatwork.org
DTSTAMP:20240226T164158Z
CREATED:20200120T004815Z
DTSTART;VALUE=DATE:20200116
DTEND;VALUE=DATE:20200117
LAST-MODIFIED:20200120T004815Z
SUMMARY:OCC Graveyard
URL;TYPE=URI:https://afscmeatwork.org/afcme-local-3580/calendar-events/occ-
 graveyard
END:VEVENT
BEGIN:VEVENT
UID:calendar.75514.field_oa_date.0@afscmeatwork.org
DTSTAMP:20240226T164158Z
CREATED:20200120T004700Z
DTSTART;VALUE=DATE:20200115
DTEND;VALUE=DATE:20200116
LAST-MODIFIED:20200120T004756Z
SUMMARY:OCC Day and Swing
URL;TYPE=URI:https://afscmeatwork.org/afcme-local-3580/calendar-events/occ-
 day-and-swing
END:VEVENT
BEGIN:VEVENT
UID:calendar.75511.field_oa_date.0@afscmeatwork.org
DTSTAMP:20240226T164158Z
CREATED:20200120T004551Z
DESCRIPTION:Join the bargaining committee and table team as they conduct re
 search\, discuss issues and prepare for negotiations. All members are welc
 ome to attend but please provide notice - email president@afscme3580.org
DTSTART;TZID=America/New_York:20200421T170000
DTEND;TZID=America/New_York:20200421T190000
LAST-MODIFIED:20200120T004551Z
LOCATION:Metro Regional Center\, Room 270
SUMMARY:Table team
URL;TYPE=URI:https://afscmeatwork.org/afcme-local-3580/calendar-events/tabl
 e-team-2
END:VEVENT
BEGIN:VEVENT
UID:calendar.75510.field_oa_date.0@afscmeatwork.org
DTSTAMP:20240226T164158Z
CREATED:20200120T004422Z
DTSTART;VALUE=DATE:20200423
DTEND;VALUE=DATE:20200424
LAST-MODIFIED:20200120T004422Z
SUMMARY:Negotiations
URL;TYPE=URI:https://afscmeatwork.org/afcme-local-3580/calendar-events/nego
 tiations-4
END:VEVENT
BEGIN:VEVENT
UID:calendar.75509.field_oa_date.0@afscmeatwork.org
DTSTAMP:20240226T164158Z
CREATED:20200120T004359Z
DTSTART;VALUE=DATE:20200409
DTEND;VALUE=DATE:20200410
LAST-MODIFIED:20200120T004359Z
SUMMARY:Negotiations
URL;TYPE=URI:https://afscmeatwork.org/afcme-local-3580/calendar-events/nego
 tiations-3
END:VEVENT
BEGIN:VEVENT
UID:calendar.75508.field_oa_date.0@afscmeatwork.org
DTSTAMP:20240226T164158Z
CREATED:20200120T004240Z
DESCRIPTION:Join the bargaining committee and table team as they conduct re
 search\, discuss issues and prepare for negotiations. All members are welc
 ome to attend but please provide notice - email president@afscme3580.org
DTSTART;TZID=America/New_York:20200407T170000
DTEND;TZID=America/New_York:20200407T190000
LAST-MODIFIED:20200120T004240Z
LOCATION:Metro Regional Center\, Room 270
SUMMARY:Bargaining committee - Table team
URL;TYPE=URI:https://afscmeatwork.org/afcme-local-3580/calendar-events/barg
 aining-committee-table-team-1
END:VEVENT
BEGIN:VEVENT
UID:calendar.75507.field_oa_date.0@afscmeatwork.org
DTSTAMP:20240226T164158Z
CREATED:20200120T004123Z
DTSTART;VALUE=DATE:20200402
DTEND;VALUE=DATE:20200403
LAST-MODIFIED:20200120T004123Z
SUMMARY:Negotiations
URL;TYPE=URI:https://afscmeatwork.org/afcme-local-3580/calendar-events/nego
 tiations-2
END:VEVENT
BEGIN:VEVENT
UID:calendar.75506.field_oa_date.0@afscmeatwork.org
DTSTAMP:20240226T164158Z
CREATED:20200120T003830Z
DTSTART;VALUE=DATE:20200326
DTEND;VALUE=DATE:20200327
LAST-MODIFIED:20200120T003830Z
SUMMARY:Negotiations
URL;TYPE=URI:https://afscmeatwork.org/afcme-local-3580/calendar-events/nego
 tiations-1
END:VEVENT
BEGIN:VEVENT
UID:calendar.75503.field_oa_date.0@afscmeatwork.org
DTSTAMP:20240226T164158Z
CREATED:20200120T003628Z
DESCRIPTION:Join the bargaining committee and table team as they conduct re
 search\, discuss issues and prepare for negotiations. All members are welc
 ome to attend but please provide notice - email president@afscme3580.org
DTSTART;TZID=America/New_York:20200317T170000
DTEND;TZID=America/New_York:20200317T190000
LAST-MODIFIED:20200120T003628Z
LOCATION:Metro Regional Center\, Room 270
RRULE:FREQ=WEEKLY;UNTIL=20200401T075959Z;INTERVAL=1;WKST=SU
SUMMARY:Table team
URL;TYPE=URI:https://afscmeatwork.org/afcme-local-3580/calendar-events/tabl
 e-team-1
END:VEVENT
BEGIN:VEVENT
UID:calendar.75502.field_oa_date.0@afscmeatwork.org
DTSTAMP:20240226T164158Z
CREATED:20200120T001700Z
DESCRIPTION:Join the bargaining committee and table team as they conduct re
 search\, discuss issues and prepare for negotiations. All members are welc
 ome to attend but please provide notice - email president@afscme3580.org
DTSTART;TZID=America/New_York:20200303T170000
DTEND;TZID=America/New_York:20200303T190000
LAST-MODIFIED:20200120T003930Z
LOCATION:Metro Regional Center\, Room 270
SUMMARY:Bargaining committee - Table team
URL;TYPE=URI:https://afscmeatwork.org/afcme-local-3580/calendar-events/barg
 aining-committee-table-team-0
END:VEVENT
BEGIN:VEVENT
UID:calendar.75501.field_oa_date.0@afscmeatwork.org
DTSTAMP:20240226T164158Z
CREATED:20200120T001500Z
DESCRIPTION:Join the bargaining committee and table team as they conduct re
 search\, discuss issues and prepare for negotiations. All members are welc
 ome to attend but please provide notice - email president@afscme3580.org
DTSTART;TZID=America/New_York:20200211T170000
DTEND;TZID=America/New_York:20200211T190000
LAST-MODIFIED:20200120T001618Z
LOCATION:Metro Regional Center\, Room 270
SUMMARY:Table team
URL;TYPE=URI:https://afscmeatwork.org/afcme-local-3580/calendar-events/tabl
 e-team
END:VEVENT
BEGIN:VEVENT
UID:calendar.75500.field_oa_date.0@afscmeatwork.org
DTSTAMP:20240226T164158Z
CREATED:20200120T001100Z
DESCRIPTION:Join the bargaining committee and table team as they conduct re
 search\, discuss issues and prepare for negotiations. All members are welc
 ome to attend but please provide notice - email president@afscme3580.org
DTSTART;TZID=America/New_York:20200218T170000
DTEND;TZID=America/New_York:20200218T190000
LAST-MODIFIED:20200120T001758Z
LOCATION:Metro Regional Center\, Room 270
SUMMARY:Bargaining committee - Table team
URL;TYPE=URI:https://afscmeatwork.org/afcme-local-3580/calendar-events/barg
 aining-committee-table-team
END:VEVENT
BEGIN:VEVENT
UID:calendar.75499.field_oa_date.0@afscmeatwork.org
DTSTAMP:20240226T164158Z
CREATED:20200120T000943Z
DTSTART;VALUE=DATE:20200908
DTEND;VALUE=DATE:20200909
LAST-MODIFIED:20200120T000943Z
SUMMARY:Labor Day Picnic at Oaks Park
URL;TYPE=URI:https://afscmeatwork.org/afcme-local-3580/calendar-events/labo
 r-day-picnic-oaks-park-0
END:VEVENT
BEGIN:VEVENT
UID:calendar.75498.field_oa_date.0@afscmeatwork.org
DTSTAMP:20240226T164158Z
CREATED:20200120T000745Z
DTSTART;TZID=America/New_York:20200211T171500
DTEND;TZID=America/New_York:20200211T193000
LAST-MODIFIED:20200120T000745Z
LOCATION:Metro Regional Center\, Room 270
SUMMARY:Executive board
URL;TYPE=URI:https://afscmeatwork.org/afcme-local-3580/calendar-events/exec
 utive-board
END:VEVENT
BEGIN:VEVENT
UID:calendar.75497.field_oa_date.0@afscmeatwork.org
DTSTAMP:20240226T164158Z
CREATED:20200120T000000Z
DESCRIPTION:Get your green on and shoe your solidarity for each other - thi
 s special week kicks of our negotiations for our next contract. Stay tuned
  for event details.
DTSTART;VALUE=DATE:20200315
DTEND;VALUE=DATE:20200322
LAST-MODIFIED:20200229T183221Z
SUMMARY:SOLIDARITY WEEK - GREEN OUT - FAIR CONTRACT
URL;TYPE=URI:https://afscmeatwork.org/afcme-local-3580/calendar-events/soli
 darity-week-green-out-fair-contract
END:VEVENT
BEGIN:VEVENT
UID:calendar.75496.field_oa_date.0@afscmeatwork.org
DTSTAMP:20240226T164158Z
CREATED:20200119T235712Z
DTSTART;TZID=America/New_York:20200124T090000
DTEND;TZID=America/New_York:20200124T103000
LAST-MODIFIED:20200119T235712Z
LOCATION:MetroPaint\, Swan Islan
SUMMARY:Contract update - MetroPaint
URL;TYPE=URI:https://afscmeatwork.org/afcme-local-3580/calendar-events/cont
 ract-update-metropaint
END:VEVENT
BEGIN:VEVENT
UID:calendar.75495.field_oa_date.0@afscmeatwork.org
DTSTAMP:20240226T164158Z
CREATED:20200119T235615Z
DTSTART;TZID=America/New_York:20200127T113000
DTEND;TZID=America/New_York:20200127T130000
LAST-MODIFIED:20200119T235615Z
LOCATION:HHW trailer
SUMMARY:Contract update - South
URL;TYPE=URI:https://afscmeatwork.org/afcme-local-3580/calendar-events/cont
 ract-update-south
END:VEVENT
BEGIN:VEVENT
UID:calendar.75494.field_oa_date.0@afscmeatwork.org
DTSTAMP:20240226T164158Z
CREATED:20200119T235400Z
DESCRIPTION:Training event for members of the table team for Contract 2020 
 negotiations. All members are welcome\, please notify us in advance if you
  plan to attend: president@afscme3580.org
DTSTART;TZID=America/New_York:20200129T163000
DTEND;TZID=America/New_York:20200129T193000
LAST-MODIFIED:20200119T235508Z
LOCATION:Metro Regional Center\, Room 270
SUMMARY:Table team training
URL;TYPE=URI:https://afscmeatwork.org/afcme-local-3580/calendar-events/tabl
 e-team-training
END:VEVENT
BEGIN:VEVENT
UID:calendar.75492.field_oa_date.0@afscmeatwork.org
DTSTAMP:20240226T164158Z
CREATED:20200119T233931Z
DTSTART;TZID=America/New_York:20200129T120000
DTEND;TZID=America/New_York:20200129T130000
LAST-MODIFIED:20200119T233931Z
SUMMARY:Contract update - FRS site
URL;TYPE=URI:https://afscmeatwork.org/afcme-local-3580/calendar-events/cont
 ract-update-frs-site
END:VEVENT
END:VCALENDAR
