BEGIN:VCALENDAR
VERSION:2.0
PRODID:-//Date iCal//NONSGML kigkonsult.se iCalcreator 2.20.2//
METHOD:PUBLISH
X-WR-CALNAME;VALUE=TEXT:AFSCME District Council 37
BEGIN:VTIMEZONE
TZID:America/New_York
BEGIN:STANDARD
DTSTART:20171105T020000
TZOFFSETFROM:-0400
TZOFFSETTO:-0500
TZNAME:EST
END:STANDARD
BEGIN:DAYLIGHT
DTSTART:20170312T020000
TZOFFSETFROM:-0500
TZOFFSETTO:-0400
RDATE:20180311T020000
TZNAME:EDT
END:DAYLIGHT
END:VTIMEZONE
BEGIN:VEVENT
UID:calendar.46687.field_oa_date.0@afscmeatwork.org
DTSTAMP:20240226T182854Z
CREATED:20170913T181400Z
DESCRIPTION:The DC 37 Climate Committee presents a forum on 'Environmental 
 Racism and the Fight for Environmental Justice.' Local and national speake
 rs. Breakout sessions on Fighting Back and Insuring Union Jobs.
DTSTART;TZID=America/New_York:20171005T173000
DTEND;TZID=America/New_York:20171005T203000
LAST-MODIFIED:20190422T211326Z
LOCATION:125 Barclay Street\, New York\, NY 10007
SUMMARY:Environmental Justice Forum
URL;TYPE=URI:https://afscmeatwork.org/local-371/calendar-events/environment
 al-justice-forum
END:VEVENT
END:VCALENDAR
