BEGIN:VCALENDAR
VERSION:2.0
PRODID:-//Date iCal//NONSGML kigkonsult.se iCalcreator 2.20.2//
METHOD:PUBLISH
X-WR-CALNAME;VALUE=TEXT:AFSCME Union Hall
BEGIN:VTIMEZONE
TZID:America/New_York
BEGIN:STANDARD
DTSTART:20231105T020000
TZOFFSETFROM:-0400
TZOFFSETTO:-0500
TZNAME:EST
END:STANDARD
BEGIN:DAYLIGHT
DTSTART:20230312T020000
TZOFFSETFROM:-0500
TZOFFSETTO:-0400
RDATE:20240310T020000
TZNAME:EDT
END:DAYLIGHT
END:VTIMEZONE
BEGIN:VEVENT
UID:calendar.182663.field_oa_date.0@afscmeatwork.org
DTSTAMP:20240226T151036Z
CREATED:20230915T162400Z
DTSTART;VALUE=DATE:20231020
DTEND;VALUE=DATE:20231022
LAST-MODIFIED:20230915T163350Z
LOCATION:Springfield\, IL
SUMMARY:AFSCME Council 31 23rd Biennial Convention
URL;TYPE=URI:https://afscmeatwork.org/afscme-council-31/find-meeting/afscme
 -council-31-23rd-biennial-convention
END:VEVENT
BEGIN:VEVENT
UID:calendar.179905.field_oa_date.0@afscmeatwork.org
DTSTAMP:20240226T151036Z
CREATED:20230808T220007Z
DESCRIPTION:1st Tuesday of each month. \n\nPresident: Clyde Wilson 
DTSTART;TZID=America/New_York:20230801T110000
DTEND;TZID=America/New_York:20230801T130000
LAST-MODIFIED:20230808T220007Z
LOCATION:VIRTUALLY and in-person at Bloom Township Community Center - 425 H
 alsted\, Chicago Heights
RRULE:FREQ=MONTHLY;UNTIL=20240101T095959Z;INTERVAL=1;BYDAY=+1TU;BYMONTH=1,2
 ,3,4,5,6,7,8,9,10,11,12;WKST=SU
SUMMARY:163 - Southern Cook
URL;TYPE=URI:https://afscmeatwork.org/afscme-council-31/find-meeting/163-so
 uthern-cook
END:VEVENT
BEGIN:VEVENT
UID:calendar.179904.field_oa_date.0@afscmeatwork.org
DTSTAMP:20240226T151036Z
CREATED:20230808T215838Z
DESCRIPTION:3rd Tuesday of each month. \n\nPresident: Paul Del Monaco 
DTSTART;TZID=America/New_York:20230815T110000
DTEND;TZID=America/New_York:20230815T130000
LAST-MODIFIED:20230808T215838Z
LOCATION:Irish Times Pub & Restaurant at 8869 Burlington Ave.\, Brookfield\
 , IL 60513
RRULE:FREQ=MONTHLY;UNTIL=20240101T095959Z;INTERVAL=1;BYDAY=+3TU;BYMONTH=1,2
 ,3,4,5,6,7,8,9,10,11,12;WKST=SU
SUMMARY:162 - Western Cook
URL;TYPE=URI:https://afscmeatwork.org/afscme-council-31/find-meeting/162-we
 stern-cook
END:VEVENT
BEGIN:VEVENT
UID:calendar.179903.field_oa_date.0@afscmeatwork.org
DTSTAMP:20240226T151036Z
CREATED:20230808T215643Z
DESCRIPTION:3rd Wednesday of each month. \n\nPresident: Diane Stokes 
DTSTART;TZID=America/New_York:20230816T120000
DTEND;TZID=America/New_York:20230816T140000
LAST-MODIFIED:20230808T215643Z
LOCATION:Sweet Basil Cafe - 5203 Old Orchard Road\, Skokie 
RRULE:FREQ=MONTHLY;UNTIL=20240101T095959Z;INTERVAL=1;BYDAY=+3WE;BYMONTH=1,2
 ,3,4,5,6,7,8,9,10,11,12;WKST=SU
SUMMARY:161 - Northern Cook
URL;TYPE=URI:https://afscmeatwork.org/afscme-council-31/find-meeting/161-no
 rthern-cook
END:VEVENT
BEGIN:VEVENT
UID:calendar.179902.field_oa_date.0@afscmeatwork.org
DTSTAMP:20240226T151036Z
CREATED:20230808T215456Z
DESCRIPTION:2nd Tuesday of each month. (No meeting in January or February.)
  \n\nPresident: Gerald Hopson 
DTSTART;TZID=America/New_York:20230808T110000
DTEND;TZID=America/New_York:20230808T130000
LAST-MODIFIED:20230808T215456Z
LOCATION:Kingdom Seed Ministries - 1033 S. 42nd\, Mt. Vernon 
RRULE:FREQ=MONTHLY;UNTIL=20240101T095959Z;INTERVAL=1;BYDAY=+2TU;BYMONTH=3,4
 ,5,6,7,8,9,10,11,12;WKST=SU
SUMMARY:94 - Wayne\, Jefferson and Hamilton
URL;TYPE=URI:https://afscmeatwork.org/afscme-council-31/find-meeting/94-way
 ne-jefferson-and-hamilton
END:VEVENT
BEGIN:VEVENT
UID:calendar.179901.field_oa_date.0@afscmeatwork.org
DTSTAMP:20240226T151036Z
CREATED:20230808T214907Z
DESCRIPTION:3rd Monday of each month. \n\nPresident: Al Latoza 
DTSTART;TZID=America/New_York:20230821T120000
DTEND;TZID=America/New_York:20230821T140000
LAST-MODIFIED:20230808T214907Z
LOCATION:Operating Engineers Local 318 - 3310 Water Tower Rd.\, Marion\, IL
  62959
RRULE:FREQ=MONTHLY;UNTIL=20240101T095959Z;INTERVAL=1;BYDAY=+3MO;BYMONTH=1,2
 ,3,4,5,6,7,8,9,10,11,12;WKST=SU
SUMMARY:93 - Franklin and Williamson
URL;TYPE=URI:https://afscmeatwork.org/afscme-council-31/find-meeting/93-fra
 nklin-and-williamson
END:VEVENT
BEGIN:VEVENT
UID:calendar.179900.field_oa_date.0@afscmeatwork.org
DTSTAMP:20240226T151036Z
CREATED:20230808T213929Z
DESCRIPTION:3rd Wednesday of each month. \n\nPresident: Rodger Gosset
DTSTART;TZID=America/New_York:20230816T120000
DTEND;TZID=America/New_York:20230816T140000
LAST-MODIFIED:20230808T213929Z
LOCATION:Vienna Diner - 511 E. Vine St.\, Vienna 
RRULE:FREQ=MONTHLY;UNTIL=20240101T095959Z;INTERVAL=1;BYDAY=+3WE;BYMONTH=1,2
 ,3,4,5,6,7,8,9,10,11,12;WKST=SU
SUMMARY:92 - Johnson\, Massac and Pulaski
URL;TYPE=URI:https://afscmeatwork.org/afscme-council-31/find-meeting/92-joh
 nson-massac-and-pulaski
END:VEVENT
BEGIN:VEVENT
UID:calendar.179899.field_oa_date.0@afscmeatwork.org
DTSTAMP:20240226T151036Z
CREATED:20230808T213121Z
DESCRIPTION:3rd Monday of each month. \n\nPresident: Floyd Clark 
DTSTART;TZID=America/New_York:20230821T110000
DTEND;TZID=America/New_York:20230821T130000
LAST-MODIFIED:20230808T213121Z
LOCATION:Monicals - 1703 W. Main\, Robinson
RRULE:FREQ=MONTHLY;UNTIL=20240101T095959Z;INTERVAL=1;BYDAY=+3MO;BYMONTH=1,2
 ,3,4,5,6,7,8,9,10,11,12;WKST=SU
SUMMARY:91 - Jasper\, Crawford\, Effingham and Clay
URL;TYPE=URI:https://afscmeatwork.org/afscme-council-31/find-meeting/91-jas
 per-crawford-effingham-and-clay
END:VEVENT
BEGIN:VEVENT
UID:calendar.179898.field_oa_date.0@afscmeatwork.org
DTSTAMP:20240226T151036Z
CREATED:20230808T211254Z
DESCRIPTION:4th Tuesday of each month. \n\nPresident: James Wright 
DTSTART;TZID=America/New_York:20230822T090000
DTEND;TZID=America/New_York:20230822T110000
LAST-MODIFIED:20230808T211254Z
LOCATION:Shawnee College Extension Building\, Anna\, IL 
RRULE:FREQ=MONTHLY;UNTIL=20240101T095959Z;INTERVAL=1;BYDAY=+4TU;BYMONTH=1,2
 ,3,4,5,6,7,8,9,10,11,12;WKST=SU
SUMMARY:90 - Jackson\, Union and Alexander
URL;TYPE=URI:https://afscmeatwork.org/afscme-council-31/find-meeting/90-jac
 kson-union-and-alexander
END:VEVENT
BEGIN:VEVENT
UID:calendar.179897.field_oa_date.0@afscmeatwork.org
DTSTAMP:20240226T151036Z
CREATED:20230808T211054Z
DESCRIPTION:1st Wednesday of each month. (No meeting in January or August.)
  \n\nPresident: Barb Franklin 
DTSTART;TZID=America/New_York:20230906T113000
DTEND;TZID=America/New_York:20230906T133000
LAST-MODIFIED:20230808T211054Z
LOCATION:The Leonard Center - 2307 Sangamon Drive in Champaign\, IL 61821 
RRULE:FREQ=MONTHLY;UNTIL=20240101T095959Z;INTERVAL=1;BYDAY=+1WE;BYMONTH=2,3
 ,4,5,6,7,9,10,11,12;WKST=SU
SUMMARY:88 - Piatt\, Champaign and Vermillion
URL;TYPE=URI:https://afscmeatwork.org/afscme-council-31/find-meeting/88-pia
 tt-champaign-and-vermillion
END:VEVENT
BEGIN:VEVENT
UID:calendar.179896.field_oa_date.0@afscmeatwork.org
DTSTAMP:20240226T151036Z
CREATED:20230808T210727Z
DESCRIPTION:Southern Meeting: 2nd Tuesday of each month. (No meeting in Jan
 uary or February.) \n\nPresident: David Spinner 
DTSTART;TZID=America/New_York:20230808T130000
DTEND;TZID=America/New_York:20230808T150000
LAST-MODIFIED:20230808T210727Z
LOCATION:Southern Meeting: County Farm Bureau - 102 N. Main St.\, Hillsboro
  
RRULE:FREQ=MONTHLY;UNTIL=20240101T095959Z;INTERVAL=1;BYDAY=+2TU;BYMONTH=3,4
 ,5,6,7,8,9,10,11,12;WKST=SU
SUMMARY:87 - Christian\, Shelby\, Montgomery and Macon
URL;TYPE=URI:https://afscmeatwork.org/afscme-council-31/find-meeting/87-chr
 istian-shelby-montgomery-and-macon-0
END:VEVENT
BEGIN:VEVENT
UID:calendar.179895.field_oa_date.0@afscmeatwork.org
DTSTAMP:20240226T151036Z
CREATED:20230808T210536Z
DESCRIPTION:Northern Meeting: 2nd Monday of each month. (No meeting in Janu
 ary or February). \n\nPresident: David Spinner 
DTSTART;TZID=America/New_York:20230814T130000
DTEND;TZID=America/New_York:20230814T150000
LAST-MODIFIED:20230808T210536Z
LOCATION:Northern Meeting: Decatur Public Library - 130 N. Franklin St.\, D
 ecatur 
RRULE:FREQ=MONTHLY;UNTIL=20240101T095959Z;INTERVAL=1;BYDAY=+2MO;BYMONTH=3,4
 ,5,6,7,8,9,10,11,12;WKST=SU
SUMMARY:87 - Christian\, Shelby\, Montgomery and Macon
URL;TYPE=URI:https://afscmeatwork.org/afscme-council-31/find-meeting/87-chr
 istian-shelby-montgomery-and-macon
END:VEVENT
BEGIN:VEVENT
UID:calendar.179894.field_oa_date.0@afscmeatwork.org
DTSTAMP:20240226T151036Z
CREATED:20230808T210314Z
DESCRIPTION:1st Monday of each month. (No meeting in January or July.) \n\n
 President: Don Todd 
DTSTART;TZID=America/New_York:20230807T113000
DTEND;TZID=America/New_York:20230807T133000
LAST-MODIFIED:20230808T210314Z
LOCATION:SERS\, 2101 S. Veterans Pkwy.\, Springfield 
RRULE:FREQ=MONTHLY;UNTIL=20240101T095959Z;INTERVAL=1;BYDAY=+1MO;BYMONTH=2,3
 ,4,5,6,8,9,10,11,12;WKST=SU
SUMMARY:86 - Sangamon
URL;TYPE=URI:https://afscmeatwork.org/afscme-council-31/find-meeting/86-san
 gamon
END:VEVENT
BEGIN:VEVENT
UID:calendar.179893.field_oa_date.0@afscmeatwork.org
DTSTAMP:20240226T151036Z
CREATED:20230808T210108Z
DESCRIPTION:2nd Tuesday of each month. \n\nPresident: David Ford 
DTSTART;TZID=America/New_York:20230808T113000
DTEND;TZID=America/New_York:20230808T133000
LAST-MODIFIED:20230808T210108Z
LOCATION:Elks Club\, 235 N Locust St.\, Centralia 
RRULE:FREQ=MONTHLY;UNTIL=20240101T095959Z;INTERVAL=1;BYMONTHDAY=1;WKST=SU
SUMMARY:84 - Fayette\, Bond\, Marion and Clinton
URL;TYPE=URI:https://afscmeatwork.org/afscme-council-31/find-meeting/84-fay
 ette-bond-marion-and-clinton
END:VEVENT
BEGIN:VEVENT
UID:calendar.179892.field_oa_date.0@afscmeatwork.org
DTSTAMP:20240226T151036Z
CREATED:20230808T205839Z
DESCRIPTION:3rd Thursday of each month. (No meeting in December\, January\,
  or February.)\n\nPresident: Gerald Mast 
DTSTART;TZID=America/New_York:20230817T130000
DTEND;TZID=America/New_York:20230817T150000
LAST-MODIFIED:20230808T205839Z
LOCATION:Sprouts Restaurant\, 2814 N. 12th St.\, Quincy\, IL 
RRULE:FREQ=MONTHLY;UNTIL=20240101T095959Z;INTERVAL=1;BYDAY=+3TH;BYMONTH=2,3
 ,4,5,6,7,8,9,10;WKST=SU
SUMMARY:83 - Adams\, Brown and Pike
URL;TYPE=URI:https://afscmeatwork.org/afscme-council-31/find-meeting/83-ada
 ms-brown-and-pike
END:VEVENT
BEGIN:VEVENT
UID:calendar.179891.field_oa_date.0@afscmeatwork.org
DTSTAMP:20240226T151036Z
CREATED:20230808T205624Z
DESCRIPTION:2nd Wednesday of each month. \n\nPresident: Steve Radliff 
DTSTART;TZID=America/New_York:20230809T120000
DTEND;TZID=America/New_York:20230809T140000
LAST-MODIFIED:20230808T205624Z
LOCATION:AMVETS\, 210 E. Court St.\, Jacksonville 
RRULE:FREQ=MONTHLY;UNTIL=20240101T095959Z;INTERVAL=1;BYDAY=+2WE;BYMONTH=1,2
 ,3,4,5,6,7,8,9,10,11,12;WKST=SU
SUMMARY:82 - Cass\, Scott\, Morgan\, Calhoun\, Greene and Macoupin
URL;TYPE=URI:https://afscmeatwork.org/afscme-council-31/find-meeting/82-cas
 s-scott-morgan-calhoun-greene-and-macoupin
END:VEVENT
BEGIN:VEVENT
UID:calendar.179890.field_oa_date.0@afscmeatwork.org
DTSTAMP:20240226T151036Z
CREATED:20230808T205352Z
DESCRIPTION:2nd Wednesday of each month. (No meeting in January.) \n\nPresi
 dent: Marcia Heitz 
DTSTART;TZID=America/New_York:20230809T113000
DTEND;TZID=America/New_York:20230809T133000
LAST-MODIFIED:20230808T205352Z
LOCATION:Old Dairy\, 210 S. Lafayette\, Macomb 
RRULE:FREQ=MONTHLY;UNTIL=20240101T095959Z;INTERVAL=1;BYDAY=+2WE;BYMONTH=2,3
 ,4,5,6,7,8,9,10,11,12;WKST=SU
SUMMARY:81 - Hancock\, McDonough\, Fulton and Schuyler
URL;TYPE=URI:https://afscmeatwork.org/afscme-council-31/find-meeting/81-han
 cock-mcdonough-fulton-and-schuyler
END:VEVENT
BEGIN:VEVENT
UID:calendar.179889.field_oa_date.0@afscmeatwork.org
DTSTAMP:20240226T151036Z
CREATED:20230808T205132Z
DESCRIPTION:4th Thursday of each month. (No meeting in November or December
 ). \n\nPresident: Lila Wagner 
DTSTART;TZID=America/New_York:20230824T103000
DTEND;TZID=America/New_York:20230824T123000
LAST-MODIFIED:20230808T205132Z
LOCATION:Oasis Senior Center\, 2810 Woodlawn Rd.\, Lincoln 
RRULE:FREQ=MONTHLY;UNTIL=20240101T095959Z;INTERVAL=1;BYDAY=+4TH;BYMONTH=1,2
 ,3,4,5,6,7,8,9,10;WKST=SU
SUMMARY:80 - Mason\, Menard\, Logan and Dewitt
URL;TYPE=URI:https://afscmeatwork.org/afscme-council-31/find-meeting/80-mas
 on-menard-logan-and-dewitt
END:VEVENT
BEGIN:VEVENT
UID:calendar.179888.field_oa_date.0@afscmeatwork.org
DTSTAMP:20240226T151036Z
CREATED:20230808T204131Z
DESCRIPTION:2nd Wednesday of each month. (No meeting in January.) \n\nPresi
 dent: Jim Dooley 
DTSTART;TZID=America/New_York:20230809T121500
DTEND;TZID=America/New_York:20230809T141500
LAST-MODIFIED:20230808T204131Z
RRULE:FREQ=MONTHLY;UNTIL=20240101T095959Z;INTERVAL=1;BYDAY=+2WE;BYMONTH=2,3
 ,4,5,6,7,8,9,10,11,12;WKST=SU
SUMMARY:79 - Mclean
URL;TYPE=URI:https://afscmeatwork.org/afscme-council-31/find-meeting/79-mcl
 ean
END:VEVENT
BEGIN:VEVENT
UID:calendar.179887.field_oa_date.0@afscmeatwork.org
DTSTAMP:20240226T151036Z
CREATED:20230808T203933Z
DESCRIPTION:3rd Wednesday of each month. (No meeting in January.) \n\nPresi
 dent: Carol Hadsell 
DTSTART;TZID=America/New_York:20230816T113000
DTEND;TZID=America/New_York:20230816T133000
LAST-MODIFIED:20230808T203933Z
LOCATION:Peoria Labor Temple - 400 N.E. Jefferson\, Peoria 
RRULE:FREQ=MONTHLY;UNTIL=20240101T095959Z;INTERVAL=1;BYDAY=+3WE;BYMONTH=2,3
 ,4,5,6,7,8,9,10,11,12;WKST=SU
SUMMARY:78 - Peoria\, Woodford and Tazewell
URL;TYPE=URI:https://afscmeatwork.org/afscme-council-31/find-meeting/78-peo
 ria-woodford-and-tazewell
END:VEVENT
END:VCALENDAR
