BEGIN:VCALENDAR
VERSION:2.0
PRODID:-//Date iCal//NONSGML kigkonsult.se iCalcreator 2.20.2//
METHOD:PUBLISH
X-WR-CALNAME;VALUE=TEXT:Council 13 AFSCME
BEGIN:VTIMEZONE
TZID:America/New_York
BEGIN:STANDARD
DTSTART:20191103T020000
TZOFFSETFROM:-0400
TZOFFSETTO:-0500
RDATE:20201101T020000,20211107T020000
TZNAME:EST
END:STANDARD
BEGIN:DAYLIGHT
DTSTART:20200308T020000
TZOFFSETFROM:-0500
TZOFFSETTO:-0400
RDATE:20210314T020000
TZNAME:EDT
END:DAYLIGHT
END:VTIMEZONE
BEGIN:VEVENT
UID:calendar.117896.field_oa_date.0@afscmeatwork.org
DTSTAMP:20240226T151446Z
CREATED:20210607T151649Z
DTSTART;VALUE=DATE:20210617
DTEND;VALUE=DATE:20210618
LAST-MODIFIED:20210607T151649Z
SUMMARY:Organizing Event - Camp Hill
URL;TYPE=URI:https://afscmeatwork.org/local-1347/events/organizing-event-ca
 mp-hill
END:VEVENT
BEGIN:VEVENT
UID:calendar.79518.field_oa_date.0@afscmeatwork.org
DTSTAMP:20240226T151446Z
CREATED:20200227T133400Z
DTSTART;TZID=America/New_York:20200305T170000
DTEND;TZID=America/New_York:20200305T183000
LAST-MODIFIED:20210315T151723Z
RRULE:FREQ=MONTHLY;UNTIL=20210301T095959Z;INTERVAL=1;BYDAY=+1TH;BYMONTH=1,2
 ,3,4,5,6,7,8,9,10,11,12;WKST=SU
SUMMARY:General Membership Meeting
URL;TYPE=URI:https://afscmeatwork.org/local-1347/events/general-membership-
 meeting-1
END:VEVENT
BEGIN:VEVENT
UID:calendar.79517.field_oa_date.0@afscmeatwork.org
DTSTAMP:20240226T151446Z
CREATED:20200227T133200Z
DTSTART;TZID=America/New_York:20200305T150000
DTEND;TZID=America/New_York:20200305T163000
LAST-MODIFIED:20210315T151632Z
RRULE:FREQ=MONTHLY;UNTIL=20210301T095959Z;INTERVAL=1;BYDAY=+1TH;BYMONTH=1,2
 ,3,4,5,6,7,8,9,10,11,12;WKST=SU
SUMMARY:General Membership Meeting
URL;TYPE=URI:https://afscmeatwork.org/local-1347/events/general-membership-
 meeting-0
END:VEVENT
END:VCALENDAR
